BEGIN:VCALENDAR
VERSION:2.0
PRODID:-//Bardo Law PC - ECPv6.15.17//NONSGML v1.0//EN
CALSCALE:GREGORIAN
METHOD:PUBLISH
X-WR-CALNAME:Bardo Law PC
X-ORIGINAL-URL:https://bardolawpc.com
X-WR-CALDESC:Events for Bardo Law PC
REFRESH-INTERVAL;VALUE=DURATION:PT1H
X-Robots-Tag:noindex
X-PUBLISHED-TTL:PT1H
BEGIN:VTIMEZONE
TZID:America/Chicago
BEGIN:DAYLIGHT
TZOFFSETFROM:-0600
TZOFFSETTO:-0500
TZNAME:CDT
DTSTART:20140309T080000
END:DAYLIGHT
BEGIN:STANDARD
TZOFFSETFROM:-0500
TZOFFSETTO:-0600
TZNAME:CST
DTSTART:20141102T070000
END:STANDARD
BEGIN:DAYLIGHT
TZOFFSETFROM:-0600
TZOFFSETTO:-0500
TZNAME:CDT
DTSTART:20150308T080000
END:DAYLIGHT
BEGIN:STANDARD
TZOFFSETFROM:-0500
TZOFFSETTO:-0600
TZNAME:CST
DTSTART:20151101T070000
END:STANDARD
BEGIN:DAYLIGHT
TZOFFSETFROM:-0600
TZOFFSETTO:-0500
TZNAME:CDT
DTSTART:20160313T080000
END:DAYLIGHT
BEGIN:STANDARD
TZOFFSETFROM:-0500
TZOFFSETTO:-0600
TZNAME:CST
DTSTART:20161106T070000
END:STANDARD
BEGIN:DAYLIGHT
TZOFFSETFROM:-0600
TZOFFSETTO:-0500
TZNAME:CDT
DTSTART:20170312T080000
END:DAYLIGHT
BEGIN:STANDARD
TZOFFSETFROM:-0500
TZOFFSETTO:-0600
TZNAME:CST
DTSTART:20171105T070000
END:STANDARD
END:VTIMEZONE
BEGIN:VTIMEZONE
TZID:UTC
BEGIN:STANDARD
TZOFFSETFROM:+0000
TZOFFSETTO:+0000
TZNAME:UTC
DTSTART:20060101T000000
END:STANDARD
END:VTIMEZONE
BEGIN:VEVENT
DTSTART;TZID=America/Chicago:20160310T080000
DTEND;TZID=America/Chicago:20160311T170000
DTSTAMP:20260419T095917
CREATED:20151023T013836Z
LAST-MODIFIED:20160121T001100Z
UID:2655-1457596800-1457715600@bardolawpc.com
SUMMARY:Fair Debt Collection Practices Act - "The Bona Fide Error Defense and Other Updates"
DESCRIPTION:Stacy Bardo is an invited speaker at the National Consumer Law Center’s annual FDCPA Conference\, to be held in Miami\, Florida on March 10-11\, 2016.  Registration details available at https://www.nclc.org/conferences-training/fair-debt-collection-practices-conference.html. \n 
URL:https://bardolawpc.com/speaking-engagement/fair-debt-collection-practices-act-the-bona-fide-error-defense-and-other-updates/
CATEGORIES:Consumer Law,Debt Collection Abuse,Debt Defense
ATTACH;FMTTYPE=image/jpeg:https://bardolawpc.com/wp-content/uploads/2015/09/NCLC-FeaturedImage-BardoLaw.jpg
END:VEVENT
BEGIN:VEVENT
DTSTART;TZID=America/Chicago:20151022T140000
DTEND;TZID=America/Chicago:20151022T150000
DTSTAMP:20260419T095917
CREATED:20150903T215301Z
LAST-MODIFIED:20151023T012448Z
UID:2238-1445522400-1445526000@bardolawpc.com
SUMMARY:Webinar Sponsored by the National Association of Consumer Advocates
DESCRIPTION:Join David Abrams of Abrams Law\, Stacy Bardo of Bardo Law\, P.C. and Karen Merrill Tjapkes of Legal Aid of Western Michigan as they discuss how to pursue affirmative consumer claims in the mortgage and residential landlord/tenant area.
URL:https://bardolawpc.com/speaking-engagement/fair-credit-reporting-webinar/
LOCATION:WEBINAR
CATEGORIES:Consumer Law,Homeowner and Tenant Rights
ATTACH;FMTTYPE=image/jpeg:https://bardolawpc.com/wp-content/uploads/2015/09/NACA-Webinar-StacyBardo.jpg
END:VEVENT
BEGIN:VEVENT
DTSTART;VALUE=DATE:20150313
DTEND;VALUE=DATE:20150314
DTSTAMP:20260419T095917
CREATED:20150904T043748Z
LAST-MODIFIED:20150913T030327Z
UID:2257-1426204800-1426291199@bardolawpc.com
SUMMARY:Ethics Panel
DESCRIPTION:
URL:https://bardolawpc.com/speaking-engagement/fair-debt-collection-practices-act-conference-ethics-panel/
LOCATION:NCLC Fair Debt Collection Practices Act Conference 2015\, Washington\, DC\, United States
CATEGORIES:Consumer Law,Debt Collection Abuse,Fair Credit Reporting
ATTACH;FMTTYPE=image/jpeg:https://bardolawpc.com/wp-content/uploads/2015/09/NCLC-FeaturedImage-BardoLaw.jpg
END:VEVENT
BEGIN:VEVENT
DTSTART;VALUE=DATE:20141107
DTEND;VALUE=DATE:20141108
DTSTAMP:20260419T095917
CREATED:20150913T021352Z
LAST-MODIFIED:20150913T025004Z
UID:2407-1415318400-1415404799@bardolawpc.com
SUMMARY:How to Successfully Manage a New Consumer Law Practice…and Rookie Mistakes to Watch Out For
DESCRIPTION:
URL:https://bardolawpc.com/speaking-engagement/how-to-successfully-manage-a-new-consumer-law-practiceand-rookie-mistakes-to-watch-out-for/
LOCATION:NCLC Consumer Rights Litigation Conference 2014\, Tampa\, FL\, United States
CATEGORIES:Consumer Law
ATTACH;FMTTYPE=image/jpeg:https://bardolawpc.com/wp-content/uploads/2015/09/NCLC-FeaturedImage-BardoLaw.jpg
END:VEVENT
BEGIN:VEVENT
DTSTART;VALUE=DATE:20140308
DTEND;VALUE=DATE:20140309
DTSTAMP:20260419T095917
CREATED:20150913T022901Z
LAST-MODIFIED:20150913T030036Z
UID:2410-1394236800-1394323199@bardolawpc.com
SUMMARY:Debt Collectors' Defensive Strategies
DESCRIPTION:
URL:https://bardolawpc.com/speaking-engagement/debt-collectors-defensive-strategies/
LOCATION:NCLC Fair Debt Collection Practices Act Conference 2014\, San Antonio\, TX\, United States
CATEGORIES:Consumer Law,Debt Collection Abuse,Debt Defense
ATTACH;FMTTYPE=image/jpeg:https://bardolawpc.com/wp-content/uploads/2015/09/NCLC-FeaturedImage-BardoLaw.jpg
END:VEVENT
BEGIN:VEVENT
DTSTART;VALUE=DATE:20131111
DTEND;VALUE=DATE:20131112
DTSTAMP:20260419T095917
CREATED:20150913T024846Z
LAST-MODIFIED:20150913T025758Z
UID:2414-1384128000-1384214399@bardolawpc.com
SUMMARY:Collection Law Update - ILCBA Fall Seminar
DESCRIPTION:Panel discussion from the Illinois Creditors Bar Association Fall Seminar: Collection Law Update
URL:https://bardolawpc.com/speaking-engagement/collection-law-update-ilcba-fall-seminar/
LOCATION:ILCBA\, Chicago\, IL\, United States
CATEGORIES:Consumer Law,Debt Collection Abuse,Debt Defense
ATTACH;FMTTYPE=image/jpeg:https://bardolawpc.com/wp-content/uploads/2015/09/IllinoisCreditorsBarAssociation-StacyMBardo-BardoLawPC.jpg
END:VEVENT
BEGIN:VEVENT
DTSTART;VALUE=DATE:20130417
DTEND;VALUE=DATE:20130418
DTSTAMP:20260419T095917
CREATED:20150913T025549Z
LAST-MODIFIED:20150913T025646Z
UID:2418-1366156800-1366243199@bardolawpc.com
SUMMARY:Mortgage Foreclosure Law and Practice Update
DESCRIPTION:The number of foreclosure cases filed and pending in Cook County\, Illinois\, remains at an alll-time high. This crisis in our courts and communities has generated legislative and policy initiatives at the local\, state\, and federal levels\, and in the courts themselves. The foreclosure crisis has also generated a significant amount of litigation challenging unfair\, deceptive\, or discriminatory practices in the mortgage lending or foreclosure processes. In this timely seminar\, representatives from the judiciary and foreclosure defense bar will examine some of these initiatives as they apply to foreclosure practice in Cook County\, Illinois\, and the Northern District of Illinois.
URL:https://bardolawpc.com/speaking-engagement/mortgage-foreclosure-law-and-practice-update/
LOCATION:Chicago Bar Association\, Chicago\, IL\, United States
CATEGORIES:Consumer Law,Homeowner and Tenant Rights
ATTACH;FMTTYPE=image/jpeg:https://bardolawpc.com/wp-content/uploads/2015/09/ChicagoBarAssociation-FeaturedImage-BardoLaw.jpg
END:VEVENT
BEGIN:VEVENT
DTSTART;VALUE=DATE:20130307
DTEND;VALUE=DATE:20130308
DTSTAMP:20260419T095917
CREATED:20150913T030823Z
LAST-MODIFIED:20150913T030846Z
UID:2422-1362614400-1362700799@bardolawpc.com
SUMMARY:Debt Collectors' Defensive Strategies
DESCRIPTION:
URL:https://bardolawpc.com/speaking-engagement/debt-collectors-defensive-strategies-2/
LOCATION:NCLC Fair Debt Collection Practices Act Conference 2013\, Baltimore\, MD\, United States
CATEGORIES:Consumer Law,Debt Defense
ATTACH;FMTTYPE=image/jpeg:https://bardolawpc.com/wp-content/uploads/2015/09/NCLC-FeaturedImage-BardoLaw.jpg
END:VEVENT
BEGIN:VEVENT
DTSTART;VALUE=DATE:20120405
DTEND;VALUE=DATE:20120406
DTSTAMP:20260419T095917
CREATED:20150913T031637Z
LAST-MODIFIED:20150913T031647Z
UID:2424-1333584000-1333670399@bardolawpc.com
SUMMARY:First Steps for Clients Facing Default on Consumer Credit Cards
DESCRIPTION:Teleseminar
URL:https://bardolawpc.com/speaking-engagement/first-steps-for-clients-facing-default-on-consumer-credit-cards/
LOCATION:Illinois Institute for Continuing Legal Education\, Springfield\, IL\, United States
CATEGORIES:Consumer Law,Debt Defense
ATTACH;FMTTYPE=image/jpeg:https://bardolawpc.com/wp-content/uploads/2015/09/IllinoisInstituteForContinuingLegalEducation-Speaker-StacyBardo.jpg
END:VEVENT
BEGIN:VEVENT
DTSTART;VALUE=DATE:20120224
DTEND;VALUE=DATE:20120225
DTSTAMP:20260419T095917
CREATED:20150913T032108Z
LAST-MODIFIED:20150913T032157Z
UID:2428-1330041600-1330127999@bardolawpc.com
SUMMARY:FDCPA Practice & Litigation: Errors to Avoid in an FDCP Practice
DESCRIPTION:This conference is a two-day introduction to successfully developing fair debt collection cases for NACA\, NACBA\, legal services and attorney general staff\, taught by the leading litigators from across the country\, including Dick Rubin\, Luke Wallace\, David Humphreys\, Michael Kinkley\, Bob Murphy\, David J. Philipps\, Mary E. Philipps\, Peter Barry\, Rand Bragg\, Michael O’Connor\, Jay Fleischman\, Ronald Wilcox\, Charles Delbaum\, David Larson\, Steve Koval\, Craig Shapiro\, and Stacy Bardo.
URL:https://bardolawpc.com/speaking-engagement/fdcpa-practice-litigation-errors-to-avoid-in-an-fdcp-practice/
LOCATION:NCLC Fair Debt Collection Practices Act Conference 2012\, New Orleans\, LA\, United States
CATEGORIES:Consumer Law,Debt Collection Abuse,Debt Defense,Homeowner and Tenant Rights
ATTACH;FMTTYPE=image/jpeg:https://bardolawpc.com/wp-content/uploads/2015/09/NCLC-FeaturedImage-BardoLaw.jpg
END:VEVENT
BEGIN:VEVENT
DTSTART;VALUE=DATE:20110304
DTEND;VALUE=DATE:20110305
DTSTAMP:20260419T095917
CREATED:20150913T032955Z
LAST-MODIFIED:20150913T032955Z
UID:2433-1299196800-1299283199@bardolawpc.com
SUMMARY:Avoiding Common Errors in FDCPA Litigation - What You Need To Know
DESCRIPTION:
URL:https://bardolawpc.com/speaking-engagement/avoiding-common-errors-in-fdcpa-litigation-what-you-need-to-know/
LOCATION:NCLC Fair Debt Collection Practices Conference Act 2011\, Seattle\, WA\, United States
CATEGORIES:Auto Finance Fraud,Consumer Law,Debt Collection Abuse,Debt Defense
ATTACH;FMTTYPE=image/jpeg:https://bardolawpc.com/wp-content/uploads/2015/09/NCLC-FeaturedImage-BardoLaw.jpg
END:VEVENT
BEGIN:VEVENT
DTSTART;VALUE=DATE:20110304
DTEND;VALUE=DATE:20110305
DTSTAMP:20260419T095917
CREATED:20150913T032750Z
LAST-MODIFIED:20150913T032750Z
UID:2431-1299196800-1299283199@bardolawpc.com
SUMMARY:Statute of Limitations and the Choice of Law Rules
DESCRIPTION:
URL:https://bardolawpc.com/speaking-engagement/statute-of-limitations-and-the-choice-of-law-rules/
LOCATION:NCLC Fair Debt Collection Practices Conference Act 2011\, Seattle\, WA\, United States
CATEGORIES:Auto Finance Fraud,Consumer Law,Debt Defense,Fair Credit Reporting
ATTACH;FMTTYPE=image/jpeg:https://bardolawpc.com/wp-content/uploads/2015/09/NCLC-FeaturedImage-BardoLaw.jpg
END:VEVENT
BEGIN:VEVENT
DTSTART;VALUE=DATE:20110217
DTEND;VALUE=DATE:20110218
DTSTAMP:20260419T095917
CREATED:20150913T033303Z
LAST-MODIFIED:20150913T033303Z
UID:2434-1297900800-1297987199@bardolawpc.com
SUMMARY:Practice Tracks: Consumer Law and Class Action Litigation
DESCRIPTION:
URL:https://bardolawpc.com/speaking-engagement/practice-tracks-consumer-law-and-class-action-litigation/
LOCATION:Chicago Bar Association\, Chicago\, IL\, United States
CATEGORIES:Class Action,Consumer Law
ATTACH;FMTTYPE=image/jpeg:https://bardolawpc.com/wp-content/uploads/2015/09/ChicagoBarAssociation-FeaturedImage-BardoLaw.jpg
END:VEVENT
BEGIN:VEVENT
DTSTART;VALUE=DATE:20100514
DTEND;VALUE=DATE:20100515
DTSTAMP:20260419T095917
CREATED:20150913T033940Z
LAST-MODIFIED:20150913T033940Z
UID:2435-1273795200-1273881599@bardolawpc.com
SUMMARY:Defending and Attacking Auto Repossessions
DESCRIPTION:NACA’s Auto Fraud Conference is the leading professional development gathering of Auto Fraud practitioners who offer representation of the highest caliber to consumers across the nation.
URL:https://bardolawpc.com/speaking-engagement/defending-and-attacking-auto-repossessions/
LOCATION:NACA Auto Fraud Conference 2010\, Chicago\, IL\, United States
CATEGORIES:Auto Finance Fraud,Consumer Law,Wrongful Reposessions
ATTACH;FMTTYPE=image/jpeg:https://bardolawpc.com/wp-content/uploads/2015/09/NACA-FeaturedImage-BardoLaw.jpg
END:VEVENT
BEGIN:VEVENT
DTSTART;VALUE=DATE:20090221
DTEND;VALUE=DATE:20090222
DTSTAMP:20260419T095917
CREATED:20150913T034221Z
LAST-MODIFIED:20150913T034221Z
UID:2438-1235174400-1235260799@bardolawpc.com
SUMMARY:FDCPA Fundamentals
DESCRIPTION:
URL:https://bardolawpc.com/speaking-engagement/fdcpa-fundamentals/
LOCATION:NCLC Fair Debt Collection Practices Act Conference 2009\, San Diego\, CA\, United States
CATEGORIES:Auto Finance Fraud,Class Action,Consumer Law,Debt Collection Abuse,Fair Credit Reporting
ATTACH;FMTTYPE=image/jpeg:https://bardolawpc.com/wp-content/uploads/2015/09/NCLC-FeaturedImage-BardoLaw.jpg
END:VEVENT
BEGIN:VEVENT
DTSTART;VALUE=DATE:20080508
DTEND;VALUE=DATE:20080509
DTSTAMP:20260419T095917
CREATED:20150913T034443Z
LAST-MODIFIED:20150913T034443Z
UID:2440-1210204800-1210291199@bardolawpc.com
SUMMARY:How to Avoid Arbitration
DESCRIPTION:
URL:https://bardolawpc.com/speaking-engagement/how-to-avoid-arbitration/
LOCATION:NACA Auto Fraud Conference 2009\, San Antonio\, TX\, United States
CATEGORIES:Auto Finance Fraud,Consumer Law,Debt Defense,Wrongful Reposessions
ATTACH;FMTTYPE=image/jpeg:https://bardolawpc.com/wp-content/uploads/2015/09/NACA-FeaturedImage-BardoLaw.jpg
END:VEVENT
BEGIN:VEVENT
DTSTART;VALUE=DATE:20071018
DTEND;VALUE=DATE:20071019
DTSTAMP:20260419T095917
CREATED:20150913T034641Z
LAST-MODIFIED:20150913T034641Z
UID:2442-1192665600-1192751999@bardolawpc.com
SUMMARY:New Lawyer Tool Kit — Potential Consumer Law Causes of Action
DESCRIPTION:
URL:https://bardolawpc.com/speaking-engagement/new-lawyer-tool-kit-potential-consumer-law-causes-of-action/
LOCATION:Chicago Bar Association\, Chicago\, IL\, United States
CATEGORIES:Consumer Law,Debt Collection Abuse,Fair Credit Reporting
ATTACH;FMTTYPE=image/jpeg:https://bardolawpc.com/wp-content/uploads/2015/09/ChicagoBarAssociation-FeaturedImage-BardoLaw.jpg
END:VEVENT
END:VCALENDAR