BEGIN:VCALENDAR
VERSION:2.0
PRODID:-//Bardo Law PC - ECPv6.15.17//NONSGML v1.0//EN
CALSCALE:GREGORIAN
METHOD:PUBLISH
X-WR-CALNAME:Bardo Law PC
X-ORIGINAL-URL:https://bardolawpc.com
X-WR-CALDESC:Events for Bardo Law PC
REFRESH-INTERVAL;VALUE=DURATION:PT1H
X-Robots-Tag:noindex
X-PUBLISHED-TTL:PT1H
BEGIN:VTIMEZONE
TZID:America/Chicago
BEGIN:DAYLIGHT
TZOFFSETFROM:-0600
TZOFFSETTO:-0500
TZNAME:CDT
DTSTART:20190310T080000
END:DAYLIGHT
BEGIN:STANDARD
TZOFFSETFROM:-0500
TZOFFSETTO:-0600
TZNAME:CST
DTSTART:20191103T070000
END:STANDARD
BEGIN:DAYLIGHT
TZOFFSETFROM:-0600
TZOFFSETTO:-0500
TZNAME:CDT
DTSTART:20200308T080000
END:DAYLIGHT
BEGIN:STANDARD
TZOFFSETFROM:-0500
TZOFFSETTO:-0600
TZNAME:CST
DTSTART:20201101T070000
END:STANDARD
BEGIN:DAYLIGHT
TZOFFSETFROM:-0600
TZOFFSETTO:-0500
TZNAME:CDT
DTSTART:20210314T080000
END:DAYLIGHT
BEGIN:STANDARD
TZOFFSETFROM:-0500
TZOFFSETTO:-0600
TZNAME:CST
DTSTART:20211107T070000
END:STANDARD
END:VTIMEZONE
BEGIN:VEVENT
DTSTART;TZID=America/Chicago:20200429T080000
DTEND;TZID=America/Chicago:20200502T170000
DTSTAMP:20260420T030900
CREATED:20191216T214150Z
LAST-MODIFIED:20191216T214150Z
UID:3090-1588147200-1588438800@bardolawpc.com
SUMMARY:National Association of Consumer Advocates Spring Conference
DESCRIPTION:Stacy Bardo will be presenting at the National Association of Consumer Advocates’ Spring Conference:  https://www.consumeradvocates.org/Spring2020/overview. \nConsumer advocates from around the country will gather in Tampa\, Florida for sessions on credit reporting\, autofraud\, and litigation skills. \nFull program agenda to follow in the coming months. \n 
URL:https://bardolawpc.com/speaking-engagement/national-association-of-consumer-advocates-spring-conference/
LOCATION:Hilton Tampa Downtown\, 211 North Tampa Street\, Tampa\, FL\, 33602\, United States
CATEGORIES:Consumer Law
ATTACH;FMTTYPE=image/jpeg:https://bardolawpc.com/wp-content/uploads/2014/11/BardoLawPC-Associations-_0001_National-Association-of-Consumer-Advocates.jpg
END:VEVENT
END:VCALENDAR